BEGIN:VCALENDAR
PRODID:-//github.com/rianjs/ical.net//NONSGML ical.net 2.1//EN
VERSION:2.0
BEGIN:VEVENT
DESCRIPTION:Amatérský badmintonový turnaj určený pro neregistrované a hráč
 e hrající maximálně městskou/oblastní soutěž.\nHraje se švýcarským systém
 em na 5-6 kol\, muži i ženy společně - vyhodnocení ale bude zvlášť :)\nSt
 artovné: "early bird" - 250 Kč (při registraci do 22.3. a platbě na účet)
 \, standardní - 300 Kč (registrace po 22.3. a/nebo při platbě na místě). 
 \nPlatba na účet: klikni na tlačítko "Zaplatit startovné" a vyber PayPal 
 nebo bankovní převod.\nRegistrace také možná na e-mail multiliga@multilig
 a.cz.
DTEND:20170326T160000
DTSTAMP:20260421T053813
DTSTART:20170326T100000
LOCATION:Badminton Líšeň
SEQUENCE:0
SUMMARY:SportObchod MULTILIGA Badminton Cup - dvouhry
UID:59be0ba5-b9f6-4cea-8f5b-cf5968a025d3
END:VEVENT
END:VCALENDAR
