BEGIN:VCALENDAR
PRODID:-//github.com/rianjs/ical.net//NONSGML ical.net 2.1//EN
VERSION:2.0
BEGIN:VEVENT
DESCRIPTION:Pro nemoc pořadatele a nízkou účast dosud přihlášených turnaj 
 rušíme. O příp. náhradním termínu budeme informovat.
DTEND:20151025T170000
DTSTAMP:20260419T210919
DTSTART:20151025T100000
LOCATION:Sportcentrum Kuklenská
SEQUENCE:0
SUMMARY:SportObchod MULTILIGA Badminton Cup - dvouhry muži
UID:407e265d-cbef-4c56-a3a7-eef62edbee1f
END:VEVENT
END:VCALENDAR
