BEGIN:VCALENDAR
PRODID:-//github.com/rianjs/ical.net//NONSGML ical.net 2.1//EN
VERSION:2.0
BEGIN:VEVENT
DESCRIPTION:SportObchod MULTILIGA Badminton Cup - dvouhry ženy.\nMísto: Sp
 ortcentrum Kuklenská\, Brno.\nDatum a čas: 3.5.2015\, 10:00 - max. 16:00\
 nCena: 250 Kč při platbě na účet\, 300 Kč při platbě na místě.\n(platba n
 a účet: účet č. 2000187572/2010\, VS 20150503\, poznámka: přezdívka)
DTEND:20150503T160000
DTSTAMP:20260419T210929
DTSTART:20150503T100000
LOCATION:Sportcentrum Kuklenská
SEQUENCE:0
SUMMARY:SportObchod MULTILIGA Badminton Cup - dvouhry ženy
UID:478e5482-b44f-4e06-acf8-e27b8ceb7046
END:VEVENT
END:VCALENDAR
