BEGIN:VCALENDAR
PRODID:-//github.com/rianjs/ical.net//NONSGML ical.net 2.1//EN
VERSION:2.0
BEGIN:VEVENT
DESCRIPTION:Popis pro turnaj badminton-20150503-dvouhra-muzi
DTEND:20150503T020000
DTSTAMP:20260419T193105
DTSTART;VALUE=DATE:20150503
LOCATION:Sportcentrum Kuklenská
SEQUENCE:0
SUMMARY:badminton-20150503-dvouhra-muzi
UID:b1474d77-5de0-4368-961e-868cb1a30d4e
END:VEVENT
END:VCALENDAR
