BEGIN:VCALENDAR
PRODID:-//github.com/rianjs/ical.net//NONSGML ical.net 2.1//EN
VERSION:2.0
BEGIN:VEVENT
DESCRIPTION:SportObchod MULTILIGA Badmintion Cup - dvouhry ženy.\nMísto: F
 it4All.\nCena: 250 Kč při platbě na účet\, 300 Kč při platbě na místě.\n(
 platba na účet: účet č. 2000187572/2010\, VS 20150118\, poznámka: přezdív
 ka)
DTEND:20150118T160000
DTSTAMP:20260419T192905
DTSTART:20150118T120000
LOCATION:Fit4All
SEQUENCE:0
SUMMARY:SportObchod MULTILIGA Badminton Cup - dvouhry ženy
UID:281e0082-4a70-4639-abe8-fbeb284cc7fc
END:VEVENT
END:VCALENDAR
