BEGIN:VCALENDAR
PRODID:-//github.com/rianjs/ical.net//NONSGML ical.net 2.1//EN
VERSION:2.0
BEGIN:VEVENT
DESCRIPTION:SportObchod.cz MULTILIGA Badminton Cup - dvouhra ženy
DTEND:20141123T020000
DTSTAMP:20260420T002214
DTSTART;VALUE=DATE:20141123
LOCATION:Tenisová a badmintonová hala Sprint
SEQUENCE:0
SUMMARY:SportObchod.cz MULTILIGA Badminton Cup - dvouhra ženy
UID:ae94a646-9081-4676-9e60-0a3d49125775
END:VEVENT
END:VCALENDAR
