BEGIN:VCALENDAR
PRODID:-//github.com/rianjs/ical.net//NONSGML ical.net 2.1//EN
VERSION:2.0
BEGIN:VEVENT
DESCRIPTION:SportObchod MULTILIGA Badmintion Cup - dvouhry muži 23.11.2014
DTEND:20141123T020000
DTSTAMP:20260419T224134
DTSTART;VALUE=DATE:20141123
LOCATION:Tenisová a badmintonová hala Sprint
SEQUENCE:0
SUMMARY:SportObchod MULTILIGA Badmintion Cup - dvouhry muži
UID:7977e451-d915-4253-bbec-20d7878794c9
END:VEVENT
END:VCALENDAR
