BEGIN:VCALENDAR
PRODID:-//github.com/rianjs/ical.net//NONSGML ical.net 2.1//EN
VERSION:2.0
BEGIN:VEVENT
DESCRIPTION:SportObchod MULTILIGA Badminton Cup - dvouhry ženy
DTEND:20140330T020000
DTSTAMP:20260420T002310
DTSTART;VALUE=DATE:20140330
LOCATION:Tenisová a badmintonová hala Sprint
SEQUENCE:0
SUMMARY:SportObchod MULTILIGA Badminton Cup - dvouhry ženy
UID:fdfbe2c3-5e59-478f-941f-2b14f6efb377
END:VEVENT
END:VCALENDAR
