BEGIN:VCALENDAR
PRODID:-//github.com/rianjs/ical.net//NONSGML ical.net 2.1//EN
VERSION:2.0
BEGIN:VEVENT
DESCRIPTION:SportObchod MULTILIGA Badminton Cup - dvouhry muži
DTEND:20140330T020000
DTSTAMP:20260420T002338
DTSTART;VALUE=DATE:20140330
LOCATION:Tenisová a badmintonová hala Sprint
SEQUENCE:0
SUMMARY:SportObchod MULTILIGA Badminton Cup - dvouhry muži
UID:4653ad51-d941-47e0-a461-a8aa0bd0622e
END:VEVENT
END:VCALENDAR
