BEGIN:VCALENDAR
PRODID:-//github.com/rianjs/ical.net//NONSGML ical.net 2.1//EN
VERSION:2.0
BEGIN:VEVENT
DESCRIPTION: SportObchod.cz MULTILIGA Badminton Cup - dvouhra ženy
DTEND:20140216T020000
DTSTAMP:20260420T002415
DTSTART;VALUE=DATE:20140216
LOCATION:Tenisová a badmintonová hala Sprint
SEQUENCE:0
SUMMARY:SportObchod.cz MULTILIGA Badminton Cup - dvouhra ženy
UID:a62611c9-16f1-473b-9069-0720415144fd
END:VEVENT
END:VCALENDAR
