BEGIN:VCALENDAR
PRODID:-//github.com/rianjs/ical.net//NONSGML ical.net 2.1//EN
VERSION:2.0
BEGIN:VEVENT
DESCRIPTION:SportObchod.cz MULTILIGA Badminton Cup - dvouhra muži
DTEND:20140216T020000
DTSTAMP:20260420T002442
DTSTART;VALUE=DATE:20140216
LOCATION:Tenisová a badmintonová hala Sprint
SEQUENCE:0
SUMMARY:SportObchod.cz MULTILIGA Badminton Cup - dvouhra muži
UID:ab109599-cb80-49f8-bf32-5f7b437beaa1
END:VEVENT
END:VCALENDAR
